BEGIN:VCALENDAR
VERSION:2.0
PRODID:-//Wendi Cherry - Goddess Awakening &amp; Healing Sanctuary, LLC - ECPv6.9.0//NONSGML v1.0//EN
CALSCALE:GREGORIAN
METHOD:PUBLISH
X-WR-CALNAME:Wendi Cherry - Goddess Awakening &amp; Healing Sanctuary, LLC
X-ORIGINAL-URL:https://wendicherry.com
X-WR-CALDESC:Events for Wendi Cherry - Goddess Awakening &amp; Healing Sanctuary, LLC
REFRESH-INTERVAL;VALUE=DURATION:PT1H
X-Robots-Tag:noindex
X-PUBLISHED-TTL:PT1H
BEGIN:VTIMEZONE
TZID:UTC
BEGIN:STANDARD
TZOFFSETFROM:+0000
TZOFFSETTO:+0000
TZNAME:UTC
DTSTART:20200101T000000
END:STANDARD
END:VTIMEZONE
BEGIN:VEVENT
DTSTART;TZID=UTC:20200311T180000
DTEND;TZID=UTC:20200311T190000
DTSTAMP:20260425T124820
CREATED:20200311T060818Z
LAST-MODIFIED:20200311T060818Z
UID:29315-1583949600-1583953200@wendicherry.com
SUMMARY:FB Live with African Ancestry
DESCRIPTION:❗️Join me and Gina Paige of African Ancestry TOMORROW LIVE @ 6 PM❗️ \nMarch is Women’s History Month and I’m so blessed that #AfricanAncestry is featuring #FromJerZtoMe and the importance their test has been on my journey to #AwakenAndHeal! \n🇸🇱#Temne of #SierraLeone \n\n🇨🇲#Mafa of #Cameroon \n🌍Get your kit at www.africanancestry.com \n📕Get your book at www.wendicherry.com/book \n❤️✊🏾💚 \n#womenshistorymonth\n#blackwomen\n#powerful\n#findyourtribe
URL:https://wendicherry.com/event/fb-live-with-african-ancestry/
LOCATION:NJ
CATEGORIES:From Jersey To Me Book Event
ATTACH;FMTTYPE=image/jpeg:https://wendicherry.com/wp-content/uploads/2020/03/FBLive_Mar11.jpg
END:VEVENT
END:VCALENDAR