BEGIN:VCALENDAR
VERSION:2.0
PRODID:-//Wendi Cherry - Goddess Awakening &amp; Healing Sanctuary, LLC - ECPv6.9.0//NONSGML v1.0//EN
CALSCALE:GREGORIAN
METHOD:PUBLISH
X-ORIGINAL-URL:https://wendicherry.com
X-WR-CALDESC:Events for Wendi Cherry - Goddess Awakening &amp; Healing Sanctuary, LLC
REFRESH-INTERVAL;VALUE=DURATION:PT1H
X-Robots-Tag:noindex
X-PUBLISHED-TTL:PT1H
BEGIN:VTIMEZONE
TZID:UTC
BEGIN:STANDARD
TZOFFSETFROM:+0000
TZOFFSETTO:+0000
TZNAME:UTC
DTSTART:20200101T000000
END:STANDARD
END:VTIMEZONE
BEGIN:VEVENT
DTSTART;TZID=UTC:20200207T170000
DTEND;TZID=UTC:20200207T190000
DTSTAMP:20260425T141921
CREATED:20200212T055013Z
LAST-MODIFIED:20200212T055051Z
UID:27914-1581094800-1581102000@wendicherry.com
SUMMARY:12th Annual DMV Links Red Dress Event for Heart Health
DESCRIPTION:  \nFor anyone who has read #FromJerZtoMe has heard me talk about how Dr. Sakilba Mines at The Institute of Multidimensional Medicine PLLC helped me heal my body over the last 7 years! \nWe had a great time sharing our passion for wellness at the Links 12th Annual DMV Links Red Dress Event for Heart Health
URL:https://wendicherry.com/event/12th-annual-dmv-links-red-dress-event-for-heart-health/
LOCATION:NJ
CATEGORIES:From Jersey To Me Book Event
ATTACH;FMTTYPE=image/jpeg:https://wendicherry.com/wp-content/uploads/2020/02/2CB4F4BD-9E82-4F3E-A8DF-4F5DCDC38B02-scaled.jpeg
END:VEVENT
BEGIN:VEVENT
DTSTART;TZID=UTC:20200209T080000
DTEND;TZID=UTC:20200209T170000
DTSTAMP:20260425T141921
CREATED:20200212T055407Z
LAST-MODIFIED:20200212T055557Z
UID:27918-1581235200-1581267600@wendicherry.com
SUMMARY:RECAP: Alpha Eta's 90th Celebration
DESCRIPTION:It was an honor to share my #AwakenAndHeal self-love revolution with my beloved\, Alpha Eta Made  Sorors of Delta Sigma Theta Sorority\, Inc.\, during our 90th Anniversary at Virginia State University\, Petersburg\, Virginia. \nI reminded attendees that trusting their intuition is a key factor in their overall wellness.
URL:https://wendicherry.com/event/alpha-etas-90th-celebration/
LOCATION:Virginia State University
CATEGORIES:From Jersey To Me Book Event
ATTACH;FMTTYPE=image/jpeg:https://wendicherry.com/wp-content/uploads/2020/02/5771689D-08A3-4734-872A-1F01EC08F373-scaled.jpeg
END:VEVENT
BEGIN:VEVENT
DTSTART;TZID=UTC:20200216T130000
DTEND;TZID=UTC:20200216T150000
DTSTAMP:20260425T141921
CREATED:20191214T081733Z
LAST-MODIFIED:20200220T034320Z
UID:26260-1581858000-1581865200@wendicherry.com
SUMMARY:The Awaken & Heal Self-Love Fest: LA
DESCRIPTION:The Awaken & Heal Celebration Book Tour was filled with mad love! We continued with the Valentine’s Day theme and expanded it to a self-love fest! \nDay One: The Family & Friends Edition\nHosted by my gracious family\, the Family & Friends edition included food\, laughter\, and easy-breezy fun! It was a great way to connect both sides of my family for the first time. \nDay Two: The Self-Love Fest\nThe backdrop for day two was the beautiful blk Temple. The vibe was perfect as friends\, former colleagues and family filled the space and learned how to approach their wellness using a mind\, body\, and spirit approach. Tips included: \n\nThe importance of being intentional about touching and making eye contact with other human beings since we have a tendency to rely on our technology to communicate.\nTaking the time to allow our intuition to guide us as we make decisions and to learn that no is a complete sentence.\nThat ancestor veneration is important and supports our decision making and that creating an altar in our home is healing.\nListen Altars: Honoring our Ancestors HERE on The Sanctuary Radio Show.
URL:https://wendicherry.com/event/la/
LOCATION:blk Temple\, 2611 Brighton Ave\, Los Angeles\, California\, 90018\, United States
CATEGORIES:From Jersey To Me Book Event
ATTACH;FMTTYPE=image/jpeg:https://wendicherry.com/wp-content/uploads/2020/02/86997170_10157584832876849_2719387336923152384_n.jpg
ORGANIZER;CN="The Goddess Awakening & Healing Sanctuary":MAILTO:wendi@wendicherry.com
END:VEVENT
BEGIN:VEVENT
DTSTART;TZID=UTC:20200222T090000
DTEND;TZID=UTC:20200222T120000
DTSTAMP:20260425T141921
CREATED:20200212T061206Z
LAST-MODIFIED:20200224T212124Z
UID:27924-1582362000-1582372800@wendicherry.com
SUMMARY:94th Annual Black History Luncheon
DESCRIPTION:The Association for the Study of African American Life and History author’s event was great. More than 1\,000 attendees filled the Renaissance Hotel\,  this year’s theme was African Americans and the Vote. The awardee of the Living Legacy Award was Dr. Lonnie Bunch and they introduced the recent Black Heritage Stamp\, featuring Soror Gwen Ifill.
URL:https://wendicherry.com/event/94th-annual-black-history-luncheon/
LOCATION:The Renaissance Hotel\, 999 9th St. NW\, Washington\, DC\, United States
CATEGORIES:From Jersey To Me Book Event
ATTACH;FMTTYPE=image/jpeg:https://wendicherry.com/wp-content/uploads/2020/02/C951FF50-CF5D-4A65-8AC8-F62A43707EDC_1_105_c.jpeg
END:VEVENT
BEGIN:VEVENT
DTSTART;TZID=UTC:20200222T150000
DTEND;TZID=UTC:20200222T190000
DTSTAMP:20260425T141921
CREATED:20200215T222144Z
LAST-MODIFIED:20200224T212419Z
UID:28106-1582383600-1582398000@wendicherry.com
SUMMARY:Black Book Expo
DESCRIPTION:I was honored to be a featured author at the Elegba Folklore Society’s Black Book Expo in Richmond\, Va. \nI shared my journey to #AwakenAndHeal\, gain self-love and acceptance\, including my search to find my biological family and African ancestry using the African Ancestry DNA test. I share reflections on my trips to Cameroon and Kemet to connect with my maternal ancestral grandmother.
URL:https://wendicherry.com/event/black-book-expo/
LOCATION:Elegbe Folklore Society\, 101 E Broad St\, Richmond\, VA\, 23219\, United States
CATEGORIES:From Jersey To Me Book Event
ATTACH;FMTTYPE=image/jpeg:https://wendicherry.com/wp-content/uploads/2020/02/E39B5F8D-45D2-4060-9D6B-0D5F91696A39_1_105_c.jpeg
END:VEVENT
END:VCALENDAR