BEGIN:VCALENDAR
VERSION:2.0
PRODID:-//Wendi Cherry - Goddess Awakening &amp; Healing Sanctuary, LLC - ECPv6.9.0//NONSGML v1.0//EN
CALSCALE:GREGORIAN
METHOD:PUBLISH
X-WR-CALNAME:Wendi Cherry - Goddess Awakening &amp; Healing Sanctuary, LLC
X-ORIGINAL-URL:https://wendicherry.com
X-WR-CALDESC:Events for Wendi Cherry - Goddess Awakening &amp; Healing Sanctuary, LLC
REFRESH-INTERVAL;VALUE=DURATION:PT1H
X-Robots-Tag:noindex
X-PUBLISHED-TTL:PT1H
BEGIN:VTIMEZONE
TZID:UTC
BEGIN:STANDARD
TZOFFSETFROM:+0000
TZOFFSETTO:+0000
TZNAME:UTC
DTSTART:20190101T000000
END:STANDARD
END:VTIMEZONE
BEGIN:VEVENT
DTSTART;TZID=UTC:20191025T190000
DTEND;TZID=UTC:20191025T220000
DTSTAMP:20260425T195947
CREATED:20190922T005818Z
LAST-MODIFIED:20200121T223710Z
UID:22733-1572030000-1572040800@wendicherry.com
SUMMARY:Book Signing + Birthday Party
DESCRIPTION:
URL:https://wendicherry.com/event/book-signing-birthday-party/
LOCATION:NJ
CATEGORIES:From Jersey To Me Book Event
ORGANIZER;CN="The Goddess Awakening & Healing Sanctuary":MAILTO:wendi@wendicherry.com
END:VEVENT
END:VCALENDAR