BEGIN:VCALENDAR
VERSION:2.0
PRODID:-//Wendi Cherry - Goddess Awakening &amp; Healing Sanctuary, LLC - ECPv6.9.0//NONSGML v1.0//EN
CALSCALE:GREGORIAN
METHOD:PUBLISH
X-ORIGINAL-URL:https://wendicherry.com
X-WR-CALDESC:Events for Wendi Cherry - Goddess Awakening &amp; Healing Sanctuary, LLC
REFRESH-INTERVAL;VALUE=DURATION:PT1H
X-Robots-Tag:noindex
X-PUBLISHED-TTL:PT1H
BEGIN:VTIMEZONE
TZID:America/New_York
BEGIN:DAYLIGHT
TZOFFSETFROM:-0500
TZOFFSETTO:-0400
TZNAME:EDT
DTSTART:20230312T070000
END:DAYLIGHT
BEGIN:STANDARD
TZOFFSETFROM:-0400
TZOFFSETTO:-0500
TZNAME:EST
DTSTART:20231105T060000
END:STANDARD
END:VTIMEZONE
BEGIN:VEVENT
DTSTART;TZID=America/New_York:20230712T190000
DTEND;TZID=America/New_York:20230712T200000
DTSTAMP:20260420T222359
CREATED:20230605T231306Z
LAST-MODIFIED:20230605T231307Z
UID:30221-1689188400-1689192000@wendicherry.com
SUMMARY:Author Reading: From Jersey To Me: The Awakening & Healing of a Goddess
DESCRIPTION:I’m coming home for a book talk at the Monmouth County Library\, Easter Branch! Rescheduled since the pandemic I will share excerpts of my memoir From Jersey To Me: The Awakening & Healing of a Goddess!\n\nOVERVIEW: After my false arrest in Atlantic Highlands\, NJ I take you on my worldwide adventure of awakening and transforming into my most healthy and authentic self by tapping into the Goddess within!\n www.wendicherry.com/book\n\nPlease share widely.\n\nRegistration suggested.\n\nI hope to see you there!\n\nWendi\nA JerZ girl in a DMV World
URL:https://wendicherry.com/event/author-reading-from-jersey-to-me-the-awakening-healing-of-a-goddess/
LOCATION:The Monmouth County Library\, 1001 Route 35\, Shrewsbury\, NJ\, United States
ATTACH;FMTTYPE=image/png:https://wendicherry.com/wp-content/uploads/2023/06/Screen-Shot-2023-06-05-at-7.10.59-PM.png
END:VEVENT
END:VCALENDAR