BEGIN:VCALENDAR
VERSION:2.0
PRODID:-//Wendi Cherry - Goddess Awakening &amp; Healing Sanctuary, LLC - ECPv6.9.0//NONSGML v1.0//EN
CALSCALE:GREGORIAN
METHOD:PUBLISH
X-ORIGINAL-URL:https://wendicherry.com
X-WR-CALDESC:Events for Wendi Cherry - Goddess Awakening &amp; Healing Sanctuary, LLC
REFRESH-INTERVAL;VALUE=DURATION:PT1H
X-Robots-Tag:noindex
X-PUBLISHED-TTL:PT1H
BEGIN:VTIMEZONE
TZID:UTC
BEGIN:STANDARD
TZOFFSETFROM:+0000
TZOFFSETTO:+0000
TZNAME:UTC
DTSTART:20200101T000000
END:STANDARD
TZID:America/New_York
BEGIN:DAYLIGHT
TZOFFSETFROM:-0500
TZOFFSETTO:-0400
TZNAME:EDT
DTSTART:20230312T070000
END:DAYLIGHT
BEGIN:STANDARD
TZOFFSETFROM:-0400
TZOFFSETTO:-0500
TZNAME:EST
DTSTART:20231105T060000
END:STANDARD
END:VTIMEZONE
BEGIN:VEVENT
DTSTART;TZID=UTC:20200510T190000
DTEND;TZID=UTC:20200614T203000
DTSTAMP:20260425T114441
CREATED:20191007T070641Z
LAST-MODIFIED:20200509T061838Z
UID:23381-1589137200-1592166600@wendicherry.com
SUMMARY:The Virtual Goddess Awakening & Healing Wellness Workshop
DESCRIPTION:Are you truly ready to examine all the roles you wear each day: mother\, wife\, daughter\, entrepreneur\, teacher\, good girl\, victim\, and martyr? Are you truly ready to examine your emotional\, spiritual\, and physical health more deeply than drinking green juice\, taking supplements\, and hitting the gym? \nNOW is the time for authentic self-reflection and discovery! \nJoin me for The Virtual Goddess Awakening & Healing Wellness Workshop! \nOnly 10 spaces are available as this will be an intimate experience. \nINTENTION:  The group is a safe space to document and discuss your own process of awakening\, healing\, and activation! You will learn tips on how to discover your own level of self-honesty\, as you unapologetically transform into your most authentic and healthy self. This virtual event is fun\, flexible\, empowering\, inspiring\, and educational. \nEXPERIENCE: Think of it is a virtual wellness coaching session! \nWe will use my interactive memoir “From Jersey To Me: The Awakening & Healing of a Goddess”\, as the textbook in a small intimate setting\, over seven weeks we will: \n\nDiscuss the importance of nutrition\, rest\, pleasure\, and exercise.\nComplete the self-love and discovery exercises.\nLearn how the human body processes food and the cycles of healing.\nThe four cycles of a woman’s life (i.e.\, Maiden\, Mother\, Goddess\, Crone).\nDiscuss the importance and meaning of meditation\, prayer\, and journaling\nHave the support of a powerful group of women ready to transform into their most authentic and healthy selves!  \n\nWHAT YOU’LL RECEIVE: \n*Once per week live class + Q&A sessions via Zoom and the Online Goddess Awakening Educational Portal (Value $750) \n*Two one-on-one accountability calls (Value $200) \n*Circle of Life worksheet to accompany the lessons (Value $250) \n\nThis tool addresses these important elements: Spirituality\, Creativity\, Finances\, Career\, Education\, Health\, Physical Activity\, Home Cooking\, Home Environment\, Relationships\, Social Life\, and Joy\n\n*Virtual Workbook & Journal (Value $125) \n\nAdditional resources to support the reading including sharing and pairing with an accountability partner\, video lessons\, audio lessons\, worksheets\, reading material\, journaling\n\n *One free digital copy of From Jersey To Me: The Awakening & Healing of a Goddess (Value $15.95) **Early bird registrants only \nTOTAL VALUE: $1\,340.95  \nEARLY BIRD PRICE: $98.00 (Ends 4/19/20) \nREGULAR PRICE: $197.00 \nSpace is limited!  Secure your spot HERE! \n 
URL:https://wendicherry.com/event/bookclub/
LOCATION:Virtually
CATEGORIES:From Jersey To Me Book Event,Virtual Goddess Mastermind
ATTACH;FMTTYPE=image/png:https://wendicherry.com/wp-content/uploads/2020/03/Sold-Out_May-2020.png
ORGANIZER;CN="The Goddess Awakening & Healing Sanctuary":MAILTO:wendi@wendicherry.com
END:VEVENT
BEGIN:VEVENT
DTSTART;TZID=UTC:20200624T160000
DTEND;TZID=UTC:20200624T170000
DTSTAMP:20260425T114441
CREATED:20200604T180103Z
LAST-MODIFIED:20200604T180103Z
UID:29693-1593014400-1593018000@wendicherry.com
SUMMARY:The Sanctuary Radio Show: Summer School
DESCRIPTION:For eight weeks my guests will share unique wisdom on maintaining our emotional\, mental\, and spiritual health during and post-COVID-19 and anti-blackness! \nGuests will be announced soon.
URL:https://wendicherry.com/event/the-sanctuary-radio-show-summer-school/
LOCATION:Virtually
CATEGORIES:The Sanctuary Radio Show
ATTACH;FMTTYPE=image/jpeg:https://wendicherry.com/wp-content/uploads/2020/05/The-Sanctuary-Radio-Show_-Summer-Session-1.jpg
ORGANIZER;CN="The Goddess Awakening & Healing Sanctuary":MAILTO:wendi@wendicherry.com
END:VEVENT
BEGIN:VEVENT
DTSTART;TZID=UTC:20200624T160000
DTEND;TZID=UTC:20200624T170000
DTSTAMP:20260425T114441
CREATED:20200623T210027Z
LAST-MODIFIED:20200623T210038Z
UID:29748-1593014400-1593018000@wendicherry.com
SUMMARY:Summer School: Yoki Sessions with Cher
DESCRIPTION:Are you prepared for the second wave of COVID-19? \nJoin us every Wednesday @ 4 PM for The Sanctuary Radio Show: SUMMER SCHOOL \nFor 8 weeks\, 8 wise experts will help us prepare emotionally\, physically\, and spiritually for navigating the next wave of #Corona + #Racism and more! \nIt’s free! \nJoin us! \nIt’s time to #AwakenAndHeal!
URL:https://wendicherry.com/event/summerschool1/
LOCATION:NJ
CATEGORIES:The Sanctuary Radio Show
ATTACH;FMTTYPE=image/jpeg:https://wendicherry.com/wp-content/uploads/2020/06/Cher_Summer-School_June-2020.jpg
ORGANIZER;CN="The Goddess Awakening & Healing Sanctuary":MAILTO:wendi@wendicherry.com
END:VEVENT
BEGIN:VEVENT
DTSTART;TZID=UTC:20200701T160000
DTEND;TZID=UTC:20200701T170000
DTSTAMP:20260425T114441
CREATED:20200623T210656Z
LAST-MODIFIED:20200624T163902Z
UID:29753-1593619200-1593622800@wendicherry.com
SUMMARY:Summer School: Hairapy: A Unique Approach to Healing Trauma
DESCRIPTION:Are you prepared for the second wave of COVID-19? \nJoin us every Wednesday @ 4 PM for The Sanctuary Radio Show: SUMMER SCHOOL \nFor 8 weeks\, 8 wise experts will help us prepare emotionally\, physically\, and spiritually for navigating the next wave of #Corona + #Racism and more! \nAmee’ra Fuller\, Licensed Master Social Worker\, and Cosmetologist will share the following: \n\nTrauma and its effects over the lifespan.\nHow to care for your child during stressful times\nHairapy: A creative approach to healing.\n\nIt’s free! \nJoin us! \nIt’s time to #AwakenAndHeal! \n 
URL:https://wendicherry.com/event/summerschool2/
LOCATION:NJ
CATEGORIES:The Sanctuary Radio Show
ATTACH;FMTTYPE=image/jpeg:https://wendicherry.com/wp-content/uploads/2020/06/Ameera_-Summer-Session.jpg
ORGANIZER;CN="The Goddess Awakening & Healing Sanctuary":MAILTO:wendi@wendicherry.com
END:VEVENT
BEGIN:VEVENT
DTSTART;TZID=UTC:20200705T103000
DTEND;TZID=UTC:20200705T183000
DTSTAMP:20260425T114441
CREATED:20200703T230903Z
LAST-MODIFIED:20200703T230903Z
UID:29786-1593945000-1593973800@wendicherry.com
SUMMARY:The Thread: Conversations Beyond The Return Vol. 5
DESCRIPTION:🌑✨gather the black stars ✨🌑 \nSunday\, July 5 @ 11 AM\, I’ll be joining other thinkers and doers of things across art\, film\, tech\, tourism\, health\, and education to channel our energy\, share our experiences\, and be in communion with one another. \nThe Thread: Conversations Beyond The Return \n\nHosted by Taste Makers Africa \n#WeAreTheThread and this fuel is for all of us. ❤️✊🏽💚 \nJoin us !
URL:https://wendicherry.com/event/the-thread-conversations-beyond-the-return-vol-5/
LOCATION:NJ
CATEGORIES:Media
ATTACH;FMTTYPE=image/png:https://wendicherry.com/wp-content/uploads/2020/07/The-Thread-Vol-5-Speaker-Cards-Wendi-Cherry.png
END:VEVENT
BEGIN:VEVENT
DTSTART;TZID=UTC:20200708T080000
DTEND;TZID=UTC:20200805T170000
DTSTAMP:20260425T114441
CREATED:20200703T231725Z
LAST-MODIFIED:20200703T231725Z
UID:29789-1594195200-1596646800@wendicherry.com
SUMMARY:The Sanctuary Radio Show: Summer School
DESCRIPTION:More than 2\, 000 people have already viewed the most recent episodes of  The Sanctuary Radio Show: Summer School Edition where guests have been providing inspiration\, education\, and empowerment to help us prepare to navigate yet another season of “togetherness” during Corona’s upcoming second wave.
URL:https://wendicherry.com/event/the-sanctuary-radio-show-summer-school-2/
LOCATION:NJ
CATEGORIES:The Sanctuary Radio Show
ATTACH;FMTTYPE=image/jpeg:https://wendicherry.com/wp-content/uploads/2020/07/Summer-School-Calendar_2020.jpg
ORGANIZER;CN="The Goddess Awakening & Healing Sanctuary":MAILTO:wendi@wendicherry.com
END:VEVENT
BEGIN:VEVENT
DTSTART;TZID=UTC:20200723T090000
DTEND;TZID=UTC:20200723T170000
DTSTAMP:20260425T114441
CREATED:20200721T233505Z
LAST-MODIFIED:20200721T233505Z
UID:29838-1595494800-1595523600@wendicherry.com
SUMMARY:HBCU Africa Homecoming
DESCRIPTION:🌍 Excited to be joining HBCUAfricaHomecoming for a discussion about Innovative and Sustainable Solutions to Transnational Health Problems impacting Africa and it’s Diaspora Health. \n📅July 23\, 2020 @ 1 PM \n\n#VSUAlumni\n#ILoveMyHBCU\n#AwakenAndHeal\n#FromJerZtoMe\n#WorldWideWen\n#Health\n#HBCUAfricaHomecoming
URL:https://wendicherry.com/event/hbcu-africa-homecoming/
LOCATION:NJ
CATEGORIES:Media
ATTACH;FMTTYPE=image/png:https://wendicherry.com/wp-content/uploads/2020/07/HBCU-Africa.png
END:VEVENT
BEGIN:VEVENT
DTSTART;TZID=UTC:20201108T190000
DTEND;TZID=UTC:20201216T190000
DTSTAMP:20260425T114441
CREATED:20201012T175956Z
LAST-MODIFIED:20201012T180325Z
UID:29954-1604862000-1608145200@wendicherry.com
SUMMARY:The Goddess Awakening Book Lab
DESCRIPTION:Join me for the  6-Week Virtual Goddess Awakening Book Lab\, where I will share practical lessons on self-publishing your very own book! \nClasses are from November 8 – December 16! After mercury retrograde ends. 😝 \nDuring our weekly virtual group sessions\, you will learn… \n\nHow to effectively brainstorm\, get organized\, and map your ideas using my manuscript template.\nHow to self-publish all while keeping the lion’s share of the profit.\nTools for productive and time-sensitive writing sessions.\nHow to take care of your mind\, body\, and spirit during the writing process.\n\nSpace will be limited! This post is a gauge of interest. \nLet’s Get to Writing! \nLearn more at wendicherry.com/booklab
URL:https://wendicherry.com/event/the-goddess-awakening-book-lab/
LOCATION:NJ
ATTACH;FMTTYPE=image/jpeg:https://wendicherry.com/wp-content/uploads/2020/10/FB-Post.jpg
ORGANIZER;CN="The Goddess Awakening & Healing Sanctuary":MAILTO:wendi@wendicherry.com
END:VEVENT
BEGIN:VEVENT
DTSTART;TZID=America/New_York:20230712T190000
DTEND;TZID=America/New_York:20230712T200000
DTSTAMP:20260425T114441
CREATED:20230605T231306Z
LAST-MODIFIED:20230605T231307Z
UID:30221-1689188400-1689192000@wendicherry.com
SUMMARY:Author Reading: From Jersey To Me: The Awakening & Healing of a Goddess
DESCRIPTION:I’m coming home for a book talk at the Monmouth County Library\, Easter Branch! Rescheduled since the pandemic I will share excerpts of my memoir From Jersey To Me: The Awakening & Healing of a Goddess!\n\nOVERVIEW: After my false arrest in Atlantic Highlands\, NJ I take you on my worldwide adventure of awakening and transforming into my most healthy and authentic self by tapping into the Goddess within!\n www.wendicherry.com/book\n\nPlease share widely.\n\nRegistration suggested.\n\nI hope to see you there!\n\nWendi\nA JerZ girl in a DMV World
URL:https://wendicherry.com/event/author-reading-from-jersey-to-me-the-awakening-healing-of-a-goddess/
LOCATION:The Monmouth County Library\, 1001 Route 35\, Shrewsbury\, NJ\, United States
ATTACH;FMTTYPE=image/png:https://wendicherry.com/wp-content/uploads/2023/06/Screen-Shot-2023-06-05-at-7.10.59-PM.png
END:VEVENT
END:VCALENDAR