BEGIN:VCALENDAR
VERSION:2.0
PRODID:-//Wendi Cherry - Goddess Awakening &amp; Healing Sanctuary, LLC - ECPv6.9.0//NONSGML v1.0//EN
CALSCALE:GREGORIAN
METHOD:PUBLISH
X-WR-CALNAME:Wendi Cherry - Goddess Awakening &amp; Healing Sanctuary, LLC
X-ORIGINAL-URL:https://wendicherry.com
X-WR-CALDESC:Events for Wendi Cherry - Goddess Awakening &amp; Healing Sanctuary, LLC
REFRESH-INTERVAL;VALUE=DURATION:PT1H
X-Robots-Tag:noindex
X-PUBLISHED-TTL:PT1H
BEGIN:VTIMEZONE
TZID:UTC
BEGIN:STANDARD
TZOFFSETFROM:+0000
TZOFFSETTO:+0000
TZNAME:UTC
DTSTART:20200101T000000
END:STANDARD
END:VTIMEZONE
BEGIN:VEVENT
DTSTART;TZID=UTC:20200705T103000
DTEND;TZID=UTC:20200705T183000
DTSTAMP:20260425T080257
CREATED:20200703T230903Z
LAST-MODIFIED:20200703T230903Z
UID:29786-1593945000-1593973800@wendicherry.com
SUMMARY:The Thread: Conversations Beyond The Return Vol. 5
DESCRIPTION:🌑✨gather the black stars ✨🌑 \nSunday\, July 5 @ 11 AM\, I’ll be joining other thinkers and doers of things across art\, film\, tech\, tourism\, health\, and education to channel our energy\, share our experiences\, and be in communion with one another. \nThe Thread: Conversations Beyond The Return \n\nHosted by Taste Makers Africa \n#WeAreTheThread and this fuel is for all of us. ❤️✊🏽💚 \nJoin us !
URL:https://wendicherry.com/event/the-thread-conversations-beyond-the-return-vol-5/
LOCATION:NJ
CATEGORIES:Media
ATTACH;FMTTYPE=image/png:https://wendicherry.com/wp-content/uploads/2020/07/The-Thread-Vol-5-Speaker-Cards-Wendi-Cherry.png
END:VEVENT
END:VCALENDAR