BEGIN:VCALENDAR
VERSION:2.0
PRODID:-//Wendi Cherry - Goddess Awakening &amp; Healing Sanctuary, LLC - ECPv6.9.0//NONSGML v1.0//EN
CALSCALE:GREGORIAN
METHOD:PUBLISH
X-ORIGINAL-URL:https://wendicherry.com
X-WR-CALDESC:Events for Wendi Cherry - Goddess Awakening &amp; Healing Sanctuary, LLC
REFRESH-INTERVAL;VALUE=DURATION:PT1H
X-Robots-Tag:noindex
X-PUBLISHED-TTL:PT1H
BEGIN:VTIMEZONE
TZID:UTC
BEGIN:STANDARD
TZOFFSETFROM:+0000
TZOFFSETTO:+0000
TZNAME:UTC
DTSTART:20200101T000000
END:STANDARD
END:VTIMEZONE
BEGIN:VEVENT
DTSTART;TZID=UTC:20200624T160000
DTEND;TZID=UTC:20200624T170000
DTSTAMP:20260425T094752
CREATED:20200604T180103Z
LAST-MODIFIED:20200604T180103Z
UID:29693-1593014400-1593018000@wendicherry.com
SUMMARY:The Sanctuary Radio Show: Summer School
DESCRIPTION:For eight weeks my guests will share unique wisdom on maintaining our emotional\, mental\, and spiritual health during and post-COVID-19 and anti-blackness! \nGuests will be announced soon.
URL:https://wendicherry.com/event/the-sanctuary-radio-show-summer-school/
LOCATION:Virtually
CATEGORIES:The Sanctuary Radio Show
ATTACH;FMTTYPE=image/jpeg:https://wendicherry.com/wp-content/uploads/2020/05/The-Sanctuary-Radio-Show_-Summer-Session-1.jpg
ORGANIZER;CN="The Goddess Awakening & Healing Sanctuary":MAILTO:wendi@wendicherry.com
END:VEVENT
BEGIN:VEVENT
DTSTART;TZID=UTC:20200624T160000
DTEND;TZID=UTC:20200624T170000
DTSTAMP:20260425T094752
CREATED:20200623T210027Z
LAST-MODIFIED:20200623T210038Z
UID:29748-1593014400-1593018000@wendicherry.com
SUMMARY:Summer School: Yoki Sessions with Cher
DESCRIPTION:Are you prepared for the second wave of COVID-19? \nJoin us every Wednesday @ 4 PM for The Sanctuary Radio Show: SUMMER SCHOOL \nFor 8 weeks\, 8 wise experts will help us prepare emotionally\, physically\, and spiritually for navigating the next wave of #Corona + #Racism and more! \nIt’s free! \nJoin us! \nIt’s time to #AwakenAndHeal!
URL:https://wendicherry.com/event/summerschool1/
LOCATION:NJ
CATEGORIES:The Sanctuary Radio Show
ATTACH;FMTTYPE=image/jpeg:https://wendicherry.com/wp-content/uploads/2020/06/Cher_Summer-School_June-2020.jpg
ORGANIZER;CN="The Goddess Awakening & Healing Sanctuary":MAILTO:wendi@wendicherry.com
END:VEVENT
END:VCALENDAR