BEGIN:VCALENDAR
VERSION:2.0
PRODID:-//Wendi Cherry - Goddess Awakening &amp; Healing Sanctuary, LLC - ECPv6.9.0//NONSGML v1.0//EN
CALSCALE:GREGORIAN
METHOD:PUBLISH
X-ORIGINAL-URL:https://wendicherry.com
X-WR-CALDESC:Events for Wendi Cherry - Goddess Awakening &amp; Healing Sanctuary, LLC
REFRESH-INTERVAL;VALUE=DURATION:PT1H
X-Robots-Tag:noindex
X-PUBLISHED-TTL:PT1H
BEGIN:VTIMEZONE
TZID:UTC
BEGIN:STANDARD
TZOFFSETFROM:+0000
TZOFFSETTO:+0000
TZNAME:UTC
DTSTART:20200101T000000
END:STANDARD
END:VTIMEZONE
BEGIN:VEVENT
DTSTART;TZID=UTC:20200118T130000
DTEND;TZID=UTC:20200118T150000
DTSTAMP:20260425T170346
CREATED:20191214T034646Z
LAST-MODIFIED:20200212T060155Z
UID:26223-1579352400-1579359600@wendicherry.com
SUMMARY:RECAP: Awaken & Heal Book Celebration: ATL
DESCRIPTION:Bio Bio |The Beauty Place was the perfect backdrop to the launch of The Awaken & Heal Book Tour Celebration! \nI shared excerpts from my new interactive memoir\, From Jersey to Me: The Awakening & Healing of a Goddess.  \nAttendees were encouraged to reflect in the mirror\, to discover their level of self-honesty and desire to transform into their most authentic and divine self! \nRead the full recap HERE \nThe Brothers support too!
URL:https://wendicherry.com/event/atl/
LOCATION:BioBio | The Beauty Place\, 75 John Wesley Dobbs\, NE\, Atlanta\, GA\, 30303\, United States
CATEGORIES:From Jersey To Me Book Event
ATTACH;FMTTYPE=image/jpeg:https://wendicherry.com/wp-content/uploads/2020/01/16A44DA1-8642-45FC-9DDF-1330A1F27C20_1_105_c.jpeg
ORGANIZER;CN="The Goddess Awakening & Healing Sanctuary":MAILTO:wendi@wendicherry.com
END:VEVENT
END:VCALENDAR